BEGIN:VCALENDAR
VERSION:2.0
PRODID:Edgewater, CO Calendar Creator
METHOD:PUBLISH
BEGIN:VEVENT
DTSTAMP:20251103T092318
DTSTART:20260421T090000
DTEND:20260421T140000
SUMMARY:Municipal Court
DESCRIPTION:<a href="https://edgewater.prod-as.govaccess.org/city-services/municipal-court">Municipal Court&nbsp;</a>
X-ALT-DESC;FMTTYPE=text/html:<a href="https://edgewater.prod-as.govaccess.org/city-services/municipal-court">Municipal Court&nbsp;</a>
LOCATION:Edgewater Civic Center\, 1800 N Harlan St Edgewater\, Colorado 80214
CLASS:PUBLIC
END:VEVENT
END:VCALENDAR
