BEGIN:VCALENDAR
VERSION:2.0
PRODID:Edgewater, CO Calendar Creator
METHOD:PUBLISH
BEGIN:VEVENT
DTSTAMP:20251105T131939
DTSTART:20260428T180000
DTEND:20260428T200000
SUMMARY:Sustainability Board Meeting
DESCRIPTION:<a href="https://edgewater.prod-as.govaccess.org/your-government/boards-commissions/sustainability-board">Sustainability Board&nbsp;</a>
X-ALT-DESC;FMTTYPE=text/html:<a href="https://edgewater.prod-as.govaccess.org/your-government/boards-commissions/sustainability-board">Sustainability Board&nbsp;</a>
LOCATION:Edgewater Civic Center\, 1800 N Harlan St Edgewater\, Colorado 80214
CLASS:PUBLIC
END:VEVENT
END:VCALENDAR
