BEGIN:VCALENDAR
VERSION:2.0
PRODID:Edgewater, CO Calendar Creator
METHOD:PUBLISH
BEGIN:VEVENT
DTSTAMP:20260403T104824
DTSTART:20260429T180000
DTEND:20260429T200000
SUMMARY:History, Arts, Recreation, and Parks (HARP) Board Meeting
DESCRIPTION:<a href="https://edgewater.prod-as.govaccess.org/your-government/boards-commissions/history-arts-recreation-and-parks-harp-advisory-board">History, Arts, Recreation, and Parks (HARP) Board</a>
X-ALT-DESC;FMTTYPE=text/html:<a href="https://edgewater.prod-as.govaccess.org/your-government/boards-commissions/history-arts-recreation-and-parks-harp-advisory-board">History, Arts, Recreation, and Parks (HARP) Board</a>
LOCATION:Edgewater Civic Center\, 1800 N Harlan St Edgewater\, Colorado 80214
CLASS:PUBLIC
END:VEVENT
END:VCALENDAR
