BEGIN:VCALENDAR
VERSION:2.0
PRODID:Edgewater, CO Calendar Creator
METHOD:PUBLISH
BEGIN:VEVENT
DTSTAMP:20251105T132749
DTSTART:20260421T183000
DTEND:20260421T203000
SUMMARY:City Council Meeting
DESCRIPTION:<p><a href="https://edgewater.prod-as.govaccess.org/your-government/your-city-council-mayor/agendas-packets-and-documents">&nbsp;</a><a href="https://edgewater.prod-as.govaccess.org/your-government/your-city-council-mayor/agendas-packets-and-documents">Council Agendas &amp; Minutes</a></p>
X-ALT-DESC;FMTTYPE=text/html:<p><a href="https://edgewater.prod-as.govaccess.org/your-government/your-city-council-mayor/agendas-packets-and-documents">&nbsp;</a><a href="https://edgewater.prod-as.govaccess.org/your-government/your-city-council-mayor/agendas-packets-and-documents">Council Agendas &amp; Minutes</a></p>
LOCATION:Edgewater Civic Center\, 1800 N Harlan St Edgewater\, Colorado 80214
CLASS:PUBLIC
END:VEVENT
END:VCALENDAR
