BEGIN:VCALENDAR
VERSION:2.0
PRODID:Edgewater, CO Calendar Creator
METHOD:PUBLISH
BEGIN:VEVENT
DTSTAMP:20260416T135906
DTSTART:20260509T100000
DTEND:20260509T120000
SUMMARY:Ring in Spring: Annual Pancake Breakfast
DESCRIPTION:<p>Enjoy a spring day at the park with free pancakes, coffee and family fun! Free for the whole family thanks to our sponsors Huff and Leslie, LLC!</p><p>&nbsp;</p><p><strong>Citizens' Park Pavilion| 10am-12pm | Saturday, May 9</strong></p>
X-ALT-DESC;FMTTYPE=text/html:<p>Enjoy a spring day at the park with free pancakes, coffee and family fun! Free for the whole family thanks to our sponsors Huff and Leslie, LLC!</p><p>&nbsp;</p><p><strong>Citizens' Park Pavilion| 10am-12pm | Saturday, May 9</strong></p>
LOCATION:Citizens' Park\, 5401 W 22nd Ave. Edgewater\, Colorado 80214
CLASS:PUBLIC
END:VEVENT
END:VCALENDAR
