BEGIN:VCALENDAR
VERSION:2.0
PRODID:Edgewater, CO Calendar Creator
METHOD:PUBLISH
BEGIN:VEVENT
DTSTAMP:20251118T074857
DTSTART:20260409T140000
DTEND:20260409T160000
SUMMARY:55+ Social Club
DESCRIPTION:<p>At the City of Edgewater we believe Thursdays are better with friends! So, bring a pal or just your fabulous self and prepare to have some fun at Edgewater Beer Garden every Second Thursday from 2pm-4pm for the FREE monthly event. No registration or registration fee required- just show up when you want!&nbsp;</p><p>Complimentary fountain sodas and light appetizers will be provided, but when the food runs out or if you'd like something else to eat or drink, other options will be available for purchase.&nbsp;</p>
X-ALT-DESC;FMTTYPE=text/html:<p>At the City of Edgewater we believe Thursdays are better with friends! So, bring a pal or just your fabulous self and prepare to have some fun at Edgewater Beer Garden every Second Thursday from 2pm-4pm for the FREE monthly event. No registration or registration fee required- just show up when you want!&nbsp;</p><p>Complimentary fountain sodas and light appetizers will be provided, but when the food runs out or if you'd like something else to eat or drink, other options will be available for purchase.&nbsp;</p>
LOCATION:Edgewater Beer Garden\, 2508 Gray St. Edgewater\, Colorado 80214
CLASS:PUBLIC
END:VEVENT
END:VCALENDAR
