BEGIN:VCALENDAR
VERSION:2.0
PRODID:Edgewater, CO Calendar Creator
METHOD:PUBLISH
BEGIN:VEVENT
DTSTAMP:20260113T092235
DTSTART:20260423T180000
DTEND:20260423T200000
SUMMARY:Charter Review Task Force
DESCRIPTION:<h3><a href="https://edgewater.prod-as.govaccess.org/your-government/boards-commissions/charter-review-task-force">EDGEWATER CHARTER REVIEW TASK FORCE</a></h3><p>1800 HARLAN STREET EDGEWATER, CO 80214</p><p> Virtually through the GoTo Meeting App </p><p>https://meet.goto.com/366388925 </p><p>+1 (872) 240-3212 </p><p>Access Code: 366-388-925</p>
X-ALT-DESC;FMTTYPE=text/html:<h3><a href="https://edgewater.prod-as.govaccess.org/your-government/boards-commissions/charter-review-task-force">EDGEWATER CHARTER REVIEW TASK FORCE</a></h3><p>1800 HARLAN STREET EDGEWATER, CO 80214</p><p> Virtually through the GoTo Meeting App </p><p>https://meet.goto.com/366388925 </p><p>+1 (872) 240-3212 </p><p>Access Code: 366-388-925</p>
LOCATION:Edgewater Civic Center\, 1800 N Harlan St Edgewater\, Colorado 80214
CLASS:PUBLIC
END:VEVENT
END:VCALENDAR
