BEGIN:VCALENDAR
VERSION:2.0
PRODID:Edgewater, CO Calendar Creator
METHOD:PUBLISH
BEGIN:VEVENT
DTSTAMP:20260127T120338
DTSTART:20260501T090000
DTEND:20260503T160000
SUMMARY:Community Garage Sale
DESCRIPTION:<div><div><div><p>Shop around the neighborhood and find new treasures. Sign up to be put on the map: Coming Soon!&nbsp;</p></div></div></div>
X-ALT-DESC;FMTTYPE=text/html:<div><div><div><p>Shop around the neighborhood and find new treasures. Sign up to be put on the map: Coming Soon!&nbsp;</p></div></div></div>
LOCATION:
CLASS:PUBLIC
END:VEVENT
END:VCALENDAR
