BEGIN:VCALENDAR
VERSION:2.0
PRODID:Edgewater, CO Calendar Creator
METHOD:PUBLISH
BEGIN:VEVENT
DTSTAMP:20260410T100136
DTSTART:20260418T153000
DTEND:20260418T180000
SUMMARY:Colorado Environmental Film Festival
DESCRIPTION:<p>Celebrate Earth Day with an afternoon of cinematic storytelling and community conversation! Doors open at 3:30pm with the films starting at 4pm.&nbsp;</p><p>On Saturday, April 18th, join Slow Food Denver and the City of Edgewater at the Edgewater Civic Center for a curated selection of films from the Colorado Environmental Film Festival, highlighting the vital intersection of nature, sustainability, and the human spirit. The showcase also features an exclusive short film by Yum Town, offering an intimate look at the local farmers, producers, and chefs who have earned the Snail of Approval for their commitment to "good, clean, and fair" food.</p><p>Following the screenings, we will host a live Q&amp;A with several Snail of Approval awardees, giving you the chance to hear firsthand how these local leaders are championing environmental stewardship through our regional food system.</p><p><strong><a href="https://events.humanitix.com/slow-food-denver-city-of-edgewater-earth-day-films-and-local-food-heroes" target="_blank" rel="noopener">Get your Film Tickets Here&nbsp;</a></strong></p><p>&nbsp;</p><p>Check out these other Earth Day-inspired events by Slow Food Denver:</p><p><a rel="nofollow" target="_blank" href="https://events.humanitix.com/foraging-in-your-backyard">Urban Foraging Walk</a></p><p><a rel="nofollow" target="_blank" href="https://events.humanitix.com/earth-day-celebration-2wqlwc7m">Earth Day Celebration at Edgewater Public Market</a></p>
X-ALT-DESC;FMTTYPE=text/html:<p>Celebrate Earth Day with an afternoon of cinematic storytelling and community conversation! Doors open at 3:30pm with the films starting at 4pm.&nbsp;</p><p>On Saturday, April 18th, join Slow Food Denver and the City of Edgewater at the Edgewater Civic Center for a curated selection of films from the Colorado Environmental Film Festival, highlighting the vital intersection of nature, sustainability, and the human spirit. The showcase also features an exclusive short film by Yum Town, offering an intimate look at the local farmers, producers, and chefs who have earned the Snail of Approval for their commitment to "good, clean, and fair" food.</p><p>Following the screenings, we will host a live Q&amp;A with several Snail of Approval awardees, giving you the chance to hear firsthand how these local leaders are championing environmental stewardship through our regional food system.</p><p><strong><a href="https://events.humanitix.com/slow-food-denver-city-of-edgewater-earth-day-films-and-local-food-heroes" target="_blank" rel="noopener">Get your Film Tickets Here&nbsp;</a></strong></p><p>&nbsp;</p><p>Check out these other Earth Day-inspired events by Slow Food Denver:</p><p><a rel="nofollow" target="_blank" href="https://events.humanitix.com/foraging-in-your-backyard">Urban Foraging Walk</a></p><p><a rel="nofollow" target="_blank" href="https://events.humanitix.com/earth-day-celebration-2wqlwc7m">Earth Day Celebration at Edgewater Public Market</a></p>
LOCATION:Edgewater Civic Center\, 1800 N Harlan St Edgewater\, Colorado 80214
CLASS:PUBLIC
END:VEVENT
END:VCALENDAR
